BEGIN:VCALENDAR
PRODID:-//eluceo/ical//2.0/EN
VERSION:2.0
CALSCALE:GREGORIAN
BEGIN:VEVENT
UID:fd0e79e42943aa6a3b0d418a8c970a90
DTSTAMP:20260421T121024Z
SUMMARY:Demenz / Sicherheit in unsicherer Lebensphase / Beatrice Omlin
DESCRIPTION:Web stranica: http://www.glasi-restaurant-adler.ch\nGovornik(ci
 ): Förderverein Demenz Betreuung Unterwalden Beatrice Omlin\, 
URL:https://rotarystans.ch/bs/agenda/show/199104
DTSTART;TZID=Europe/Zurich:20250728T120000
DTEND;TZID=Europe/Zurich:20250728T133000
LOCATION:Glasi-Restaurant Adler\, Seestrasse 7\, 6052 Hergiswil
CATEGORIES:Rotary
END:VEVENT
BEGIN:VTIMEZONE
TZID:Europe/Zurich
BEGIN:DAYLIGHT
DTSTART:20250728T120000
TZNAME:CEST
TZOFFSETTO:+0200
TZOFFSETFROM:+0200
END:DAYLIGHT
END:VTIMEZONE
END:VCALENDAR
