BEGIN:VCALENDAR
PRODID:-//eluceo/ical//2.0/EN
VERSION:2.0
CALSCALE:GREGORIAN
BEGIN:VEVENT
UID:3f5ddac8704ddee334ffe108323c0b1e
DTSTAMP:20260420T112312Z
SUMMARY:Lunch: Urs Rindlisbacher: das Währungsdilemma und seine Folgen
DESCRIPTION:
URL:https://rotarystans.ch/en/agenda/show/56296
DTSTART;TZID=Europe/Zurich:20151109T120000
DTEND;TZID=Europe/Zurich:20151109T120000
LOCATION:Hotel Engel
CATEGORIES:Rotary
END:VEVENT
BEGIN:VTIMEZONE
TZID:Europe/Zurich
BEGIN:STANDARD
DTSTART:20151109T120000
TZNAME:CET
TZOFFSETTO:+0100
TZOFFSETFROM:+0100
END:STANDARD
END:VTIMEZONE
END:VCALENDAR
