BEGIN:VCALENDAR
PRODID:-//eluceo/ical//2.0/EN
VERSION:2.0
CALSCALE:GREGORIAN
BEGIN:VEVENT
UID:a1d659186f62e1e93c17de2dd50d771e
DTSTAMP:20260422T092931Z
SUMMARY:Lunch: Klassifikationsvortrag Christian Hartmann
DESCRIPTION:
URL:https://rotarystans.ch/en/agenda/show/59033
DTSTART;TZID=Europe/Zurich:20160425T120000
DTEND;TZID=Europe/Zurich:20160425T120000
LOCATION:Hotel Engel\, Stans
CATEGORIES:Rotary
END:VEVENT
BEGIN:VTIMEZONE
TZID:Europe/Zurich
BEGIN:DAYLIGHT
DTSTART:20160425T120000
TZNAME:CEST
TZOFFSETTO:+0200
TZOFFSETFROM:+0200
END:DAYLIGHT
END:VTIMEZONE
END:VCALENDAR
