BEGIN:VCALENDAR
PRODID:-//eluceo/ical//2.0/EN
VERSION:2.0
CALSCALE:GREGORIAN
BEGIN:VEVENT
UID:55b4d1f6cecac438f2230f4dbbf05acf
DTSTAMP:20260422T091736Z
SUMMARY:Lunch: Roger Dallago: echte und unechte Flüchtlinge - Wege und Aus
 wege
DESCRIPTION:
URL:https://rotarystans.ch/en/agenda/show/59034
DTSTART;TZID=Europe/Zurich:20160502T120000
DTEND;TZID=Europe/Zurich:20160502T120000
LOCATION:Glasi Restaurant Adler\, Hergiswil
CATEGORIES:Rotary
END:VEVENT
BEGIN:VTIMEZONE
TZID:Europe/Zurich
BEGIN:DAYLIGHT
DTSTART:20160502T120000
TZNAME:CEST
TZOFFSETTO:+0200
TZOFFSETFROM:+0200
END:DAYLIGHT
END:VTIMEZONE
END:VCALENDAR
