BEGIN:VCALENDAR
PRODID:-//eluceo/ical//2.0/EN
VERSION:2.0
CALSCALE:GREGORIAN
BEGIN:VEVENT
UID:0ec712c9b09528983c24eee9649e0e81
DTSTAMP:20260422T111822Z
SUMMARY:Lunch: Dolf Stockhausen: über Graz
DESCRIPTION:
URL:https://rotarystans.ch/en/agenda/show/59037
DTSTART;TZID=Europe/Zurich:20160523T120000
DTEND;TZID=Europe/Zurich:20160523T120000
LOCATION:Glasi Restaurant Adler\, Hergiswil
CATEGORIES:Rotary
END:VEVENT
BEGIN:VTIMEZONE
TZID:Europe/Zurich
BEGIN:DAYLIGHT
DTSTART:20160523T120000
TZNAME:CEST
TZOFFSETTO:+0200
TZOFFSETFROM:+0200
END:DAYLIGHT
END:VTIMEZONE
END:VCALENDAR
