BEGIN:VCALENDAR
PRODID:-//eluceo/ical//2.0/EN
VERSION:2.0
CALSCALE:GREGORIAN
BEGIN:VEVENT
UID:d31d33dbbdbad2ea90505b7c443162ca
DTSTAMP:20260424T095050Z
SUMMARY:Clubreise nach Graz
DESCRIPTION:
URL:https://rotarystans.ch/en/agenda/show/59038
DTSTART;TZID=Europe/Zurich:20160526T000000
DTEND;TZID=Europe/Zurich:20160529T000000
LOCATION:-
CATEGORIES:Rotary
END:VEVENT
BEGIN:VTIMEZONE
TZID:Europe/Zurich
BEGIN:DAYLIGHT
DTSTART:20160526T000000
TZNAME:CEST
TZOFFSETTO:+0200
TZOFFSETFROM:+0200
END:DAYLIGHT
END:VTIMEZONE
END:VCALENDAR
