BEGIN:VCALENDAR
PRODID:-//eluceo/ical//2.0/EN
VERSION:2.0
CALSCALE:GREGORIAN
BEGIN:VEVENT
UID:b89600ae6e49e0781fb128827e1c769b
DTSTAMP:20260424T152441Z
SUMMARY:Besuch im Kunstmuseum Basel
DESCRIPTION:
URL:https://rotarystans.ch/en/agenda/show/59041
DTSTART;TZID=Europe/Zurich:20160612T000000
DTEND;TZID=Europe/Zurich:20160612T000000
LOCATION:-
CATEGORIES:Rotary
END:VEVENT
BEGIN:VTIMEZONE
TZID:Europe/Zurich
BEGIN:DAYLIGHT
DTSTART:20160612T000000
TZNAME:CEST
TZOFFSETTO:+0200
TZOFFSETFROM:+0200
END:DAYLIGHT
END:VTIMEZONE
END:VCALENDAR
