BEGIN:VCALENDAR
PRODID:-//eluceo/ical//2.0/EN
VERSION:2.0
CALSCALE:GREGORIAN
BEGIN:VEVENT
UID:8fc383c5fbd0ae7236ca6146b0b87dc4
DTSTAMP:20260424T212704Z
SUMMARY:Lunch: Generalversammlung
DESCRIPTION:
URL:https://rotarystans.ch/en/agenda/show/59043
DTSTART;TZID=Europe/Zurich:20160620T120000
DTEND;TZID=Europe/Zurich:20160620T120000
LOCATION:Glasi Restaurant Adler\, Hergiswil
CATEGORIES:Rotary
END:VEVENT
BEGIN:VTIMEZONE
TZID:Europe/Zurich
BEGIN:DAYLIGHT
DTSTART:20160620T120000
TZNAME:CEST
TZOFFSETTO:+0200
TZOFFSETFROM:+0200
END:DAYLIGHT
END:VTIMEZONE
END:VCALENDAR
