BEGIN:VCALENDAR
PRODID:-//eluceo/ical//2.0/EN
VERSION:2.0
CALSCALE:GREGORIAN
BEGIN:VEVENT
UID:e442dbe6a478c9de0ecd0e30dbb1df08
DTSTAMP:20260424T173822Z
SUMMARY:Lunch: Felix Schier - als Hubschauberpilot in der Antarktis
DESCRIPTION:
URL:https://rotarystans.ch/en/agenda/show/62512
DTSTART;TZID=Europe/Zurich:20160613T120000
DTEND;TZID=Europe/Zurich:20160613T120000
LOCATION:Glasi Restaurant Adler Hergiswil
CATEGORIES:Rotary
END:VEVENT
BEGIN:VTIMEZONE
TZID:Europe/Zurich
BEGIN:DAYLIGHT
DTSTART:20160613T120000
TZNAME:CEST
TZOFFSETTO:+0200
TZOFFSETFROM:+0200
END:DAYLIGHT
END:VTIMEZONE
END:VCALENDAR
