BEGIN:VCALENDAR
PRODID:-//eluceo/ical//2.0/EN
VERSION:2.0
CALSCALE:GREGORIAN
BEGIN:VEVENT
UID:292054180f03296029cfd374bb4a3fdb
DTSTAMP:20260425T015636Z
SUMMARY:Lunch: Präsidentenansprache
DESCRIPTION:Speaker(s): Dominik von Matt
URL:https://rotarystans.ch/en/agenda/show/62944
DTSTART;TZID=Europe/Zurich:20160704T120000
DTEND;TZID=Europe/Zurich:20160704T120000
LOCATION:Glasi Restaurant Adler\, Hergiswil
CATEGORIES:Rotary
END:VEVENT
BEGIN:VTIMEZONE
TZID:Europe/Zurich
BEGIN:DAYLIGHT
DTSTART:20160704T120000
TZNAME:CEST
TZOFFSETTO:+0200
TZOFFSETFROM:+0200
END:DAYLIGHT
END:VTIMEZONE
END:VCALENDAR
