BEGIN:VCALENDAR
PRODID:-//eluceo/ical//2.0/EN
VERSION:2.0
CALSCALE:GREGORIAN
BEGIN:VEVENT
UID:1432660e51d370396556375ea99448b6
DTSTAMP:20260424T232340Z
SUMMARY:Lunch: Plauderlunch
DESCRIPTION:
URL:https://rotarystans.ch/en/agenda/show/62963
DTSTART;TZID=Europe/Zurich:20160627T120000
DTEND;TZID=Europe/Zurich:20160627T120000
LOCATION:Glasi Restaurant Adler\, Hergiswil 
CATEGORIES:Rotary
END:VEVENT
BEGIN:VTIMEZONE
TZID:Europe/Zurich
BEGIN:DAYLIGHT
DTSTART:20160627T120000
TZNAME:CEST
TZOFFSETTO:+0200
TZOFFSETFROM:+0200
END:DAYLIGHT
END:VTIMEZONE
END:VCALENDAR
