BEGIN:VCALENDAR
PRODID:-//eluceo/ical//2.0/EN
VERSION:2.0
CALSCALE:GREGORIAN
BEGIN:VEVENT
UID:20143fea6eb116e9ccd8b2ff52cee7dd
DTSTAMP:20260421T140126Z
SUMMARY:Max Ursin / Salzbatterien aus dem Berner Oberland / die Innovation 
 aus der Schweiz
DESCRIPTION:Aus Salz\, Eisen\, Nickel und Keramik\, die umweltfreundlichste
  Batterie der Zukunft\nSitio web: http://www.innovenergy.ch\nOrador(es): G
 eschäftsführer und Gründer Max Ursin
URL:https://rotarystans.ch/es/agenda/show/100155
DTSTART;TZID=Europe/Zurich:20190923T120000
DTEND;TZID=Europe/Zurich:20190923T133000
LOCATION:Hotel Adler Hergiswil
CATEGORIES:Rotary
END:VEVENT
BEGIN:VTIMEZONE
TZID:Europe/Zurich
BEGIN:DAYLIGHT
DTSTART:20190923T120000
TZNAME:CEST
TZOFFSETTO:+0200
TZOFFSETFROM:+0200
END:DAYLIGHT
END:VTIMEZONE
END:VCALENDAR
