BEGIN:VCALENDAR
PRODID:-//eluceo/ical//2.0/EN
VERSION:2.0
CALSCALE:GREGORIAN
BEGIN:VEVENT
UID:eed62b0f72186871f0bcea17b0160d3f
DTSTAMP:20260421T101218Z
SUMMARY:Achtung Programmänderung: Plauderlunch ausserplanmässig\, Michael
  Schmid\, unser Referent ist Reiseverhindert
DESCRIPTION:Herr Schmid spricht fliessend Deutsch\, Englisch und verfügt 
 über die Grundkenntnisse in Chinesisch\nSitio web: http://www.proipatent.
 com\nOrador(es): Dip. Ing. Elektronik\, Deutscher Patentanwalt Michael Sch
 mid
URL:https://rotarystans.ch/es/agenda/show/100156
DTSTART;TZID=Europe/Zurich:20190930T120000
DTEND;TZID=Europe/Zurich:20190930T133000
LOCATION:Hotel Adler Hergiswil 
CATEGORIES:Rotary
END:VEVENT
BEGIN:VTIMEZONE
TZID:Europe/Zurich
BEGIN:DAYLIGHT
DTSTART:20190930T120000
TZNAME:CEST
TZOFFSETTO:+0200
TZOFFSETFROM:+0200
END:DAYLIGHT
END:VTIMEZONE
END:VCALENDAR
