BEGIN:VCALENDAR
PRODID:-//eluceo/ical//2.0/EN
VERSION:2.0
CALSCALE:GREGORIAN
BEGIN:VEVENT
UID:8d60e902698fc89a71c9d22f730249c6
DTSTAMP:20260421T135821Z
SUMMARY:Zu krank für die Arbeit? Informationsveranstaltung - Verleihung An
 erkennungspreis Rotary Club Stans
DESCRIPTION:Programm\n\nAb 17.15 Uhr              Eintreffen\n
 \n17.30 Uhr                   Beginn Veranstaltung\, Beg
 rüssung\n\n17.40 Uhr                   REP – Ein neue
 s Instrument für die Eingliederung\,\n\n                
                      Referent: Martin Kaiser\, Schweiz
 erischer Arbeitgeberverband\n\n18.20 Uhr                 
   Aktuelles aus den Sozialversicherungen\n\n18.30 Uhr          
          Verleihung Anerkennungspreis des Rotary Club Stans\n\nab 
 ca. 18.45 Uhr        Apéro und Ausklang\n\nAnmeldung an: info@aknw
 .ch\; Stichwort Informationsveranstaltung 26.9.2019\nSitio web: http://www
 .aknw.ch\nOrador(es): Martin Kaiser\, Leiter Ressort Sozialpolitik\, Schwe
 izerischer Arbeitgeberverband
URL:https://rotarystans.ch/es/agenda/show/104871
DTSTART;TZID=Europe/Zurich:20190926T173000
DTEND;TZID=Europe/Zurich:20190926T193000
LOCATION:Aula Schule Oberdorf
CATEGORIES:Rotary
END:VEVENT
BEGIN:VTIMEZONE
TZID:Europe/Zurich
BEGIN:DAYLIGHT
DTSTART:20190926T173000
TZNAME:CEST
TZOFFSETTO:+0200
TZOFFSETFROM:+0200
END:DAYLIGHT
END:VTIMEZONE
END:VCALENDAR
