BEGIN:VCALENDAR
PRODID:-//eluceo/ical//2.0/EN
VERSION:2.0
CALSCALE:GREGORIAN
BEGIN:VEVENT
UID:e76a1ca61657e0e4821b37a337abf8cd
DTSTAMP:20260420T093103Z
SUMMARY:Rotary Stamm
DESCRIPTION:
URL:https://rotarystans.ch/es/agenda/show/36677
DTSTART;TZID=Europe/Zurich:20140104T110000
DTEND;TZID=Europe/Zurich:20140104T110000
LOCATION:Stans\, Restaurant Linde
CATEGORIES:Rotary
END:VEVENT
BEGIN:VTIMEZONE
TZID:Europe/Zurich
BEGIN:STANDARD
DTSTART:20140104T110000
TZNAME:CET
TZOFFSETTO:+0100
TZOFFSETFROM:+0100
END:STANDARD
END:VTIMEZONE
END:VCALENDAR
