BEGIN:VCALENDAR
PRODID:-//eluceo/ical//2.0/EN
VERSION:2.0
CALSCALE:GREGORIAN
BEGIN:VEVENT
UID:b19adb21355a496a47922e84f71374e6
DTSTAMP:20260421T140631Z
SUMMARY:Vorstellung der Stiftung Luzerner Theater 
DESCRIPTION:Orador(es): Brigitte Aufterbeck-Sieber
URL:https://rotarystans.ch/es/agenda/show/89552
DTSTART;TZID=Europe/Zurich:20181105T120000
DTEND;TZID=Europe/Zurich:20181105T120000
LOCATION:Restaurant Engel\, Stans
CATEGORIES:Rotary
END:VEVENT
BEGIN:VTIMEZONE
TZID:Europe/Zurich
BEGIN:STANDARD
DTSTART:20181105T120000
TZNAME:CET
TZOFFSETTO:+0100
TZOFFSETFROM:+0100
END:STANDARD
END:VTIMEZONE
END:VCALENDAR
