BEGIN:VCALENDAR
PRODID:-//eluceo/ical//2.0/EN
VERSION:2.0
CALSCALE:GREGORIAN
BEGIN:VEVENT
UID:73d047c0955855840838ce69d0b19841
DTSTAMP:20260421T160237Z
SUMMARY:Aus dem Tagebuch eines Lobbyisten
DESCRIPTION:Orador(es): Dr. Franz Egle
URL:https://rotarystans.ch/es/agenda/show/89553
DTSTART;TZID=Europe/Zurich:20181112T120000
DTEND;TZID=Europe/Zurich:20181112T120000
LOCATION:Restaurant Engel\, Stans
CATEGORIES:Rotary
END:VEVENT
BEGIN:VTIMEZONE
TZID:Europe/Zurich
BEGIN:STANDARD
DTSTART:20181112T120000
TZNAME:CET
TZOFFSETTO:+0100
TZOFFSETFROM:+0100
END:STANDARD
END:VTIMEZONE
END:VCALENDAR
