BEGIN:VCALENDAR
PRODID:-//eluceo/ical//2.0/EN
VERSION:2.0
CALSCALE:GREGORIAN
BEGIN:VEVENT
UID:39bf7e3b86b3f49e83aea4bcd14ff1f5
DTSTAMP:20260421T174148Z
SUMMARY:Plauderlunch - Aufruf Austausch
DESCRIPTION:Orador(es): Andreas Lauterburg
URL:https://rotarystans.ch/es/agenda/show/89554
DTSTART;TZID=Europe/Zurich:20181119T120000
DTEND;TZID=Europe/Zurich:20181119T120000
LOCATION:Restaurant Engel\, Stans
CATEGORIES:Rotary
END:VEVENT
BEGIN:VTIMEZONE
TZID:Europe/Zurich
BEGIN:STANDARD
DTSTART:20181119T120000
TZNAME:CET
TZOFFSETTO:+0100
TZOFFSETFROM:+0100
END:STANDARD
END:VTIMEZONE
END:VCALENDAR
