BEGIN:VCALENDAR
PRODID:-//eluceo/ical//2.0/EN
VERSION:2.0
CALSCALE:GREGORIAN
BEGIN:VEVENT
UID:acf1819dafdbbc3ab707b9652a7df341
DTSTAMP:20260421T193714Z
SUMMARY:Partneranlass - Romantische Oper Roméo & Juliette
DESCRIPTION:
URL:https://rotarystans.ch/es/agenda/show/89555
DTSTART;TZID=Europe/Zurich:20181122T180000
DTEND;TZID=Europe/Zurich:20181122T180000
LOCATION:Luzerner Theater
CATEGORIES:Rotary
END:VEVENT
BEGIN:VTIMEZONE
TZID:Europe/Zurich
BEGIN:STANDARD
DTSTART:20181122T180000
TZNAME:CET
TZOFFSETTO:+0100
TZOFFSETFROM:+0100
END:STANDARD
END:VTIMEZONE
END:VCALENDAR
