BEGIN:VCALENDAR
PRODID:-//eluceo/ical//2.0/EN
VERSION:2.0
CALSCALE:GREGORIAN
BEGIN:VEVENT
UID:e4489637055267d7302ef7552ead3364
DTSTAMP:20260421T211927Z
SUMMARY:Lunchvortrag - Industriebeteiligungen als wichtiger Pfeiler der Sch
 weizer Sicherheitspolitik
DESCRIPTION:Orador(es): Heinz Scholl
URL:https://rotarystans.ch/es/agenda/show/89556
DTSTART;TZID=Europe/Zurich:20181126T120000
DTEND;TZID=Europe/Zurich:20181126T120000
LOCATION:Hotel Engel\, Stans
CATEGORIES:Rotary
END:VEVENT
BEGIN:VTIMEZONE
TZID:Europe/Zurich
BEGIN:STANDARD
DTSTART:20181126T120000
TZNAME:CET
TZOFFSETTO:+0100
TZOFFSETFROM:+0100
END:STANDARD
END:VTIMEZONE
END:VCALENDAR
