BEGIN:VCALENDAR
PRODID:-//eluceo/ical//2.0/EN
VERSION:2.0
CALSCALE:GREGORIAN
BEGIN:VEVENT
UID:423351c6732b3aef87139ceb036e32e8
DTSTAMP:20260422T030801Z
SUMMARY:Trüllern - eine Nidwaldner Tradition
DESCRIPTION:Orador(es): Hermann Wyss
URL:https://rotarystans.ch/es/agenda/show/89557
DTSTART;TZID=Europe/Zurich:20181203T120000
DTEND;TZID=Europe/Zurich:20181203T120000
LOCATION:Hotel Engel\, Stans
CATEGORIES:Rotary
END:VEVENT
BEGIN:VTIMEZONE
TZID:Europe/Zurich
BEGIN:STANDARD
DTSTART:20181203T120000
TZNAME:CET
TZOFFSETTO:+0100
TZOFFSETFROM:+0100
END:STANDARD
END:VTIMEZONE
END:VCALENDAR
