BEGIN:VCALENDAR
PRODID:-//eluceo/ical//2.0/EN
VERSION:2.0
CALSCALE:GREGORIAN
BEGIN:VEVENT
UID:ea43ab0695efac67bc82c79780199d2a
DTSTAMP:20260422T052025Z
SUMMARY:Rotary - Wahlversammlung
DESCRIPTION:Orador(es): Livia Zimmermann
URL:https://rotarystans.ch/es/agenda/show/89558
DTSTART;TZID=Europe/Zurich:20181210T120000
DTEND;TZID=Europe/Zurich:20181210T120000
LOCATION:Hotel Engel\, Stans
CATEGORIES:Rotary
END:VEVENT
BEGIN:VTIMEZONE
TZID:Europe/Zurich
BEGIN:STANDARD
DTSTART:20181210T120000
TZNAME:CET
TZOFFSETTO:+0100
TZOFFSETFROM:+0100
END:STANDARD
END:VTIMEZONE
END:VCALENDAR
