BEGIN:VCALENDAR
PRODID:-//eluceo/ical//2.0/EN
VERSION:2.0
CALSCALE:GREGORIAN
BEGIN:VEVENT
UID:e6533840b1a4d73542e5139e5cc93161
DTSTAMP:20260421T115725Z
SUMMARY:Samstag - Stamm
DESCRIPTION:
URL:https://rotarystans.ch/es/agenda/show/91657
DTSTART;TZID=Europe/Zurich:20181103T103000
DTEND;TZID=Europe/Zurich:20181103T103000
LOCATION:Restaurant Engel\, Stans
CATEGORIES:Rotary
END:VEVENT
BEGIN:VTIMEZONE
TZID:Europe/Zurich
BEGIN:STANDARD
DTSTART:20181103T103000
TZNAME:CET
TZOFFSETTO:+0100
TZOFFSETFROM:+0100
END:STANDARD
END:VTIMEZONE
END:VCALENDAR
