BEGIN:VCALENDAR
PRODID:-//eluceo/ical//2.0/EN
VERSION:2.0
CALSCALE:GREGORIAN
BEGIN:VEVENT
UID:1b6fb0a50f59a15ba10a418d311c4e99
DTSTAMP:20260424T172156Z
SUMMARY:Die Rolle des Galeristen im internationalen Kunstmarkt
DESCRIPTION:Orador(es): Victor Gisler
URL:https://rotarystans.ch/es/agenda/show/94167
DTSTART;TZID=Europe/Zurich:20190114T120000
DTEND;TZID=Europe/Zurich:20190114T120000
LOCATION:Hotel Engel\, Stans
CATEGORIES:Rotary
END:VEVENT
BEGIN:VTIMEZONE
TZID:Europe/Zurich
BEGIN:STANDARD
DTSTART:20190114T120000
TZNAME:CET
TZOFFSETTO:+0100
TZOFFSETFROM:+0100
END:STANDARD
END:VTIMEZONE
END:VCALENDAR
