BEGIN:VCALENDAR
PRODID:-//eluceo/ical//2.0/EN
VERSION:2.0
CALSCALE:GREGORIAN
BEGIN:VEVENT
UID:8067af18e59b2efd548be6f9a16e6053
DTSTAMP:20260421T155904Z
SUMMARY:Plauderlunch
DESCRIPTION:Conférencier(s): Präsenzlunch mit Albert Infanger / Brunni un
 d mehr
URL:https://rotarystans.ch/fr/agenda/show/100154
DTSTART;TZID=Europe/Zurich:20190916T120000
DTEND;TZID=Europe/Zurich:20190916T133000
LOCATION:Hotel Adler Hergiswil
CATEGORIES:Rotary
END:VEVENT
BEGIN:VTIMEZONE
TZID:Europe/Zurich
BEGIN:DAYLIGHT
DTSTART:20190916T120000
TZNAME:CEST
TZOFFSETTO:+0200
TZOFFSETFROM:+0200
END:DAYLIGHT
END:VTIMEZONE
END:VCALENDAR
