BEGIN:VCALENDAR
PRODID:-//eluceo/ical//2.0/EN
VERSION:2.0
CALSCALE:GREGORIAN
BEGIN:VEVENT
UID:481ad7a4dab95ede367ba5319592ff78
DTSTAMP:20260421T151653Z
SUMMARY:Partneranlass / Wir besuchen 220 Oldtimer in Kägiswil 
DESCRIPTION:Mittags kein Lunch\,\nChristine und Theo Kipfer laden uns ein\,
  ihre weltweit einmalige Sammlung amerikanischer Oldtimer von 1948 bis in
  die Siebziger zu besuchen.\nConférencier(s): Christine und Theo Kipfer
URL:https://rotarystans.ch/fr/agenda/show/100163
DTSTART;TZID=Europe/Zurich:20191021T180000
DTEND;TZID=Europe/Zurich:20191021T220000
LOCATION:Kernserstrasse\, 6056 Sarnen gleich neben Anderhalden
CATEGORIES:Rotary
END:VEVENT
BEGIN:VTIMEZONE
TZID:Europe/Zurich
BEGIN:DAYLIGHT
DTSTART:20191021T180000
TZNAME:CEST
TZOFFSETTO:+0200
TZOFFSETFROM:+0200
END:DAYLIGHT
END:VTIMEZONE
END:VCALENDAR
