BEGIN:VCALENDAR
PRODID:-//eluceo/ical//2.0/EN
VERSION:2.0
CALSCALE:GREGORIAN
BEGIN:VEVENT
UID:e18989826f86cb2e68fe489c85e05c0a
DTSTAMP:20260422T121105Z
SUMMARY:Trauer-Lunch für Theo Barmettler
DESCRIPTION:Conférencier(s): Josef Bucher
URL:https://rotarystans.ch/fr/agenda/show/32607
DTSTART;TZID=Europe/Zurich:20130826T120000
DTEND;TZID=Europe/Zurich:20130826T120000
LOCATION:Hergiswil\, Glasi Restaurant Adler
CATEGORIES:Rotary
END:VEVENT
BEGIN:VTIMEZONE
TZID:Europe/Zurich
BEGIN:DAYLIGHT
DTSTART:20130826T120000
TZNAME:CEST
TZOFFSETTO:+0200
TZOFFSETFROM:+0200
END:DAYLIGHT
END:VTIMEZONE
END:VCALENDAR
