BEGIN:VCALENDAR
PRODID:-//eluceo/ical//2.0/EN
VERSION:2.0
CALSCALE:GREGORIAN
BEGIN:VEVENT
UID:052dc7bca4962481de105ea87b5f9ebd
DTSTAMP:20260424T155902Z
SUMMARY:Rot. Heinrich Leuthard / Nidwaldner Kantonalbank / Nachhaltig Finan
 zieren
DESCRIPTION:Sito web: http://nkb.ch\nRelatore/i: Rot. Heinrich Leuthard / V
 orsitzender der Geschäftsleitung
URL:https://rotarystans.ch/it/agenda/show/100153
DTSTART;TZID=Europe/Zurich:20190909T120000
DTEND;TZID=Europe/Zurich:20190909T133000
LOCATION:Hotel Adler Hergiswil
CATEGORIES:Rotary
END:VEVENT
BEGIN:VTIMEZONE
TZID:Europe/Zurich
BEGIN:DAYLIGHT
DTSTART:20190909T120000
TZNAME:CEST
TZOFFSETTO:+0200
TZOFFSETFROM:+0200
END:DAYLIGHT
END:VTIMEZONE
END:VCALENDAR
