BEGIN:VCALENDAR
PRODID:-//eluceo/ical//2.0/EN
VERSION:2.0
CALSCALE:GREGORIAN
BEGIN:VEVENT
UID:494253cf7cc999f6aa108ae7f953b447
DTSTAMP:20260422T171847Z
SUMMARY:Weihnachtsanlass - Kloster Engelberg / Restaurant Schweizerhaus
DESCRIPTION:
URL:https://rotarystans.ch/sv/agenda/show/89559
DTSTART;TZID=Europe/Zurich:20181215T180000
DTEND;TZID=Europe/Zurich:20181215T180000
LOCATION:Engelberg
CATEGORIES:Rotary
END:VEVENT
BEGIN:VTIMEZONE
TZID:Europe/Zurich
BEGIN:STANDARD
DTSTART:20181215T180000
TZNAME:CET
TZOFFSETTO:+0100
TZOFFSETFROM:+0100
END:STANDARD
END:VTIMEZONE
END:VCALENDAR
