BEGIN:VCALENDAR
PRODID:-//eluceo/ical//2.0/EN
VERSION:2.0
CALSCALE:GREGORIAN
BEGIN:VEVENT
UID:1145ab572b1269d3f99535a60819aa2d
DTSTAMP:20260422T191801Z
SUMMARY:Luxus Gesundheitswesen
DESCRIPTION:Talare: Dr. Andreas Lauterburg 
URL:https://rotarystans.ch/sv/agenda/show/89560
DTSTART;TZID=Europe/Zurich:20181217T120000
DTEND;TZID=Europe/Zurich:20181217T120000
LOCATION:Hotel Engel\, Stans
CATEGORIES:Rotary
END:VEVENT
BEGIN:VTIMEZONE
TZID:Europe/Zurich
BEGIN:STANDARD
DTSTART:20181217T120000
TZNAME:CET
TZOFFSETTO:+0100
TZOFFSETFROM:+0100
END:STANDARD
END:VTIMEZONE
END:VCALENDAR
