BEGIN:VCALENDAR
PRODID:-//eluceo/ical//2.0/EN
VERSION:2.0
CALSCALE:GREGORIAN
BEGIN:VEVENT
UID:2192cf3ad96312f5ab549bd78428b479
DTSTAMP:20260424T133514Z
SUMMARY:Worte zum neuen Jahr
DESCRIPTION:Talare: Katharina Lanfronconi
URL:https://rotarystans.ch/sv/agenda/show/94165
DTSTART;TZID=Europe/Zurich:20181201T120000
DTEND;TZID=Europe/Zurich:20181201T120000
LOCATION:Hotel Engel\, Hergiswil
CATEGORIES:Rotary
END:VEVENT
BEGIN:VTIMEZONE
TZID:Europe/Zurich
BEGIN:STANDARD
DTSTART:20181201T120000
TZNAME:CET
TZOFFSETTO:+0100
TZOFFSETFROM:+0100
END:STANDARD
END:VTIMEZONE
END:VCALENDAR
