BEGIN:VCALENDAR
PRODID:-//eluceo/ical//2.0/EN
VERSION:2.0
CALSCALE:GREGORIAN
BEGIN:VEVENT
UID:7b7638878b275239b7b4d58dfca46742
DTSTAMP:20260424T160711Z
SUMMARY:Rotary Musikpreis
DESCRIPTION:Talare: Urs Dillier\, Emil Wallimann
URL:https://rotarystans.ch/sv/agenda/show/94168
DTSTART;TZID=Europe/Zurich:20190121T120000
DTEND;TZID=Europe/Zurich:20190121T120000
LOCATION:Hotel Engel\, Stans
CATEGORIES:Rotary
END:VEVENT
BEGIN:VTIMEZONE
TZID:Europe/Zurich
BEGIN:STANDARD
DTSTART:20190121T120000
TZNAME:CET
TZOFFSETTO:+0100
TZOFFSETFROM:+0100
END:STANDARD
END:VTIMEZONE
END:VCALENDAR
