BEGIN:VCALENDAR
PRODID:-//eluceo/ical//2.0/EN
VERSION:2.0
CALSCALE:GREGORIAN
BEGIN:VEVENT
UID:31d9380b67a96abf053f867318095e5b
DTSTAMP:20260424T180333Z
SUMMARY:Rotary Stiftung unterstützt jugendliche Talente
DESCRIPTION:Talare: Denise Stöckli - Goldmedaille Gewinnerin
URL:https://rotarystans.ch/sv/agenda/show/94170
DTSTART;TZID=Europe/Zurich:20190128T120000
DTEND;TZID=Europe/Zurich:20190128T120000
LOCATION:Hotel Engel\, Stans
CATEGORIES:Rotary
END:VEVENT
BEGIN:VTIMEZONE
TZID:Europe/Zurich
BEGIN:STANDARD
DTSTART:20190128T120000
TZNAME:CET
TZOFFSETTO:+0100
TZOFFSETFROM:+0100
END:STANDARD
END:VTIMEZONE
END:VCALENDAR
