BEGIN:VCALENDAR
PRODID:-//eluceo/ical//2.0/EN
VERSION:2.0
CALSCALE:GREGORIAN
BEGIN:VEVENT
UID:9a8b62bc10ef1da15e582fa295172b19
DTSTAMP:20260424T215327Z
SUMMARY:Rotary Musikpreis 
DESCRIPTION:Talare: Rotary Obwalden
URL:https://rotarystans.ch/sv/agenda/show/94171
DTSTART;TZID=Europe/Zurich:20190202T080000
DTEND;TZID=Europe/Zurich:20190202T080000
LOCATION:Schulhaus Cher\, Sarnen
CATEGORIES:Rotary
END:VEVENT
BEGIN:VTIMEZONE
TZID:Europe/Zurich
BEGIN:STANDARD
DTSTART:20190202T080000
TZNAME:CET
TZOFFSETTO:+0100
TZOFFSETFROM:+0100
END:STANDARD
END:VTIMEZONE
END:VCALENDAR
